BEGIN:VCALENDAR
VERSION:2.0
PRODID:-//eventon.com NONSGML v1.0//EN
CALSCALE:GREGORIAN
METHOD:PUBLISH
BEGIN:VEVENT
UID:69e760b3e2f9c
DTSTAMP:20260421T113411Z
DTSTART:20230510T123000Z
DTEND:20230510T235000Z
LOCATION:
SUMMARY:Mini Musicians Club
DESCRIPTION:Best suited for 1-5 year olds but welcome to all! Singing\,  in
 struments\,  and crafts every Wednesday and Kilmovee Community Centre from 
 12:30-1:30pm. Contact Alex at 083-144-2066€2\nhttps://kilmovee.ie/events/
 mini-musicians-club/
URL:https://kilmovee.ie/events/mini-musicians-club/
END:VEVENT
END:VCALENDAR